BEGIN:VCALENDAR
VERSION:2.0
PRODID:-//Gemischter Chor Pfyn - ECPv6.15.20//NONSGML v1.0//EN
CALSCALE:GREGORIAN
METHOD:PUBLISH
X-ORIGINAL-URL:https://www.gemischter-chor-pfyn.ch
X-WR-CALDESC:Veranstaltungen für Gemischter Chor Pfyn
REFRESH-INTERVAL;VALUE=DURATION:PT1H
X-Robots-Tag:noindex
X-PUBLISHED-TTL:PT1H
BEGIN:VTIMEZONE
TZID:Europe/Zurich
BEGIN:DAYLIGHT
TZOFFSETFROM:+0100
TZOFFSETTO:+0200
TZNAME:CEST
DTSTART:20260329T010000
END:DAYLIGHT
BEGIN:STANDARD
TZOFFSETFROM:+0200
TZOFFSETTO:+0100
TZNAME:CET
DTSTART:20261025T010000
END:STANDARD
BEGIN:DAYLIGHT
TZOFFSETFROM:+0100
TZOFFSETTO:+0200
TZNAME:CEST
DTSTART:20270328T010000
END:DAYLIGHT
BEGIN:STANDARD
TZOFFSETFROM:+0200
TZOFFSETTO:+0100
TZNAME:CET
DTSTART:20271031T010000
END:STANDARD
BEGIN:DAYLIGHT
TZOFFSETFROM:+0100
TZOFFSETTO:+0200
TZNAME:CEST
DTSTART:20280326T010000
END:DAYLIGHT
BEGIN:STANDARD
TZOFFSETFROM:+0200
TZOFFSETTO:+0100
TZNAME:CET
DTSTART:20281029T010000
END:STANDARD
END:VTIMEZONE
BEGIN:VEVENT
DTSTART;TZID=Europe/Zurich:20270305T200000
DTEND;TZID=Europe/Zurich:20270305T230000
DTSTAMP:20260421T151404
CREATED:20260310T154804Z
LAST-MODIFIED:20260310T154804Z
UID:3765-1804276800-1804287600@www.gemischter-chor-pfyn.ch
SUMMARY:Jahresversammlung
DESCRIPTION:
URL:https://www.gemischter-chor-pfyn.ch/event/jahresversammlung-2/
LOCATION:Restaurant Krone\, Hauptstrasse 44\, Pfyn\, 8505\, Switzerland
END:VEVENT
END:VCALENDAR